BEGIN:VCALENDAR
VERSION:2.0
PRODID:Events Booking
BEGIN:VEVENT
UID:69ed6e6dea7e8
SUMMARY:Flow Country\, Thriller\, Fahrtechnik auf der Petzen
DESCRIPTION:War es schon immer dein Traum einen Tag im Bikepark am längste
 n Flow Trail Europas und dem ruppigen Thriller Trail zu verbringen? Natür
 lich mit professioneller Anleitung und Fahrtechnik Erklärungen? Dann ist 
 dies genau das richtige Event für dich. Unterstützt durch die Gondel\, s
 ind so viele Abfahrten wie du willst kein Problem mehr. Gemeinsam mit unse
 rem Mountainbike Guide feilst du an deiner Fahrtechnik\, so dass einem per
 fekten Tag mit Spaß und Lerneffekt nichts mehr im Wege steht.
LOCATION:Unterort 52\, 9142 St. Michel ob Bleiburg
DTSTART:20181231T230000Z
DTEND:20201230T230000Z
DTSTAMP:20260426T014621Z
ORGANIZER;CN=RIDE.company:MAILTO:info@ride.company
GEO:46.543908;14.770873
X-APPLE-STRUCTURED-LOCATION;VALUE=URI;X-ADDRESS=Unterort 52\, 9142 St. Mich
 el ob Bleiburg;X-APPLE-RADIUS=72;X-TITLE=Kärnten\, Petzen Gondel\, Karawa
 nken:46.543908;14.770873
END:VEVENT
END:VCALENDAR