BEGIN:VCALENDAR
VERSION:2.0
PRODID:Events Booking
BEGIN:VEVENT
UID:69ec1e68936cc
SUMMARY:Schrauber Workshop - Professional [5/5]
DESCRIPTION:Geld und Zeit sparen und Wissen für Selbständigkeit lernen. E
 ndlich mal richtig die Schaltung selbst einstellen? Professionelle Einstel
 lungen und Umbauarbeiten am Mountainbike sind völlig trivial\, wenn man w
 eiß wie es geht. Lerne neue oder vertiefe deine Skills damit du dein Bike
  optimal feinabstimmst und tunest.
DTSTART:20210626T070000Z
DTEND:20210626T100000Z
DTSTAMP:20260425T015240Z
ORGANIZER;CN=RIDE.company:MAILTO:info@ride.company
END:VEVENT
END:VCALENDAR