BEGIN:VCALENDAR
VERSION:2.0
PRODID:Events Booking
BEGIN:VEVENT
UID:69e5f94d7fd89
SUMMARY:Schrauber Workshop - Basic [3/5]
DESCRIPTION:Geld und Zeit sparen und Wissen für Selbständigkeit lernen. E
 infache Wartungsarbeiten und Einstellung am Mountainbike sind so einfach w
 ie sich einen feinen Tee zuzubereiten. Lerne mit uns neue oder vertiefe wi
 chtige Grundlagen damit du dein Bike optimal für dich einstellen kannst.
DTSTART:20210409T160000Z
DTEND:20210409T190000Z
DTSTAMP:20260420T100045Z
ORGANIZER;CN=RIDE.company:MAILTO:info@ride.company
END:VEVENT
END:VCALENDAR