BEGIN:VCALENDAR
VERSION:2.0
PRODID:Events Booking
BEGIN:VEVENT
UID:69e73a465528b
SUMMARY:Schrauber Workshop - Advanced [3/5]
DESCRIPTION:Geld und Zeit sparen und Wissen für Selbständigkeit lernen. F
 ortgeschrittene Wartungsarbeiten und Verschleißteile austauschen am Mount
 ainbike sind nicht ganz trivial\, aber wenn man weiß wie\, ist dies so ei
 nfach wie das Bedienen eines Fernsehers. Lerne neue oder vertiefe wichtige
  fortgeschrittene Skills  damit du dein Bike optimal für dich in Stand h
 altest.
DTSTART:20210416T160000Z
DTEND:20210416T190000Z
DTSTAMP:20260421T085014Z
ORGANIZER;CN=RIDE.company:MAILTO:info@ride.company
END:VEVENT
END:VCALENDAR