BEGIN:VCALENDAR
VERSION:2.0
PRODID:Events Booking
BEGIN:VEVENT
UID:69e8907849b60
SUMMARY:Schrauber Workshop - Pannenhilfe [1/5]
DESCRIPTION:Geld und Zeit sparen und Wissen für Selbständigkeit lernen. V
 or technischen Pannen auf den Trails ist niemand gefeit. Speziell auf gro
 ßen Bergen entscheidet das technische Wissen zur Selbsthilfe ob du dein B
 ike den Berg runter schiebst oder doch wieder fahren kannst. In diesem Kur
 s lernst du die Mängel selbst an deinem Bike zu beheben oder auch jemande
 n Pannenhilfe zu leisten.
DTSTART:20210205T160000Z
DTEND:20210205T190000Z
DTSTAMP:20260422T091016Z
ORGANIZER;CN=RIDE.company:MAILTO:info@ride.company
END:VEVENT
END:VCALENDAR