BEGIN:VCALENDAR
VERSION:2.0
PRODID:Events Booking
BEGIN:VEVENT
UID:69e73a9a2c3ff
SUMMARY:Schrauber Workshop - Wartung [1/3]
DESCRIPTION:Wartungsarbeiten und Verschleißteile austauschen am Mountainbi
 ke sind unumgänglich und wenn man weiß wie\, ist dies so einfach wie das
  Bedienen eines Fernsehers. Lerne neue Skills damit du dein Bike optimal f
 ür dich in Stand haltest.
LOCATION:Ossiacher Zeile 73\, 9500 Villach\, Österreich
DTSTART:20250418T130000Z
DTEND:20250418T160000Z
DTSTAMP:20260421T085138Z
ORGANIZER;CN=RIDE.company:MAILTO:info@ride.company
GEO:46.617202;13.85972
X-APPLE-STRUCTURED-LOCATION;VALUE=URI;X-ADDRESS=Ossiacher Zeile 73\, 9500 V
 illach\, Österreich;X-APPLE-RADIUS=72;X-TITLE=Kärnten\, Villach\, Bären
 bikes:46.617202;13.85972
END:VEVENT
END:VCALENDAR