BEGIN:VCALENDAR
VERSION:2.0
PRODID:Events Booking
BEGIN:VEVENT
UID:69e4ec927ec3f
SUMMARY:Schrauber Workshop - Einstellungen [3/3]
DESCRIPTION:Einfache Einstellung am Mountainbike sind so einfach wie sich e
 inen Tee zuzubereiten\, sind rasch erledigt und bringen einfach mehr Fahrs
 paß und Sicherheit im Gelände. Lerne mit uns neue oder vertiefe wichtige
  Grundlagen damit du dein Bike optimal für dich einstellen kannst.
LOCATION:Ossiacher Zeile 73\, 9500 Villach\, Österreich
DTSTART:20240615T070000Z
DTEND:20240615T100000Z
DTSTAMP:20260419T145410Z
ORGANIZER;CN=RIDE.company:MAILTO:info@ride.company
GEO:46.617202;13.85972
X-APPLE-STRUCTURED-LOCATION;VALUE=URI;X-ADDRESS=Ossiacher Zeile 73\, 9500 V
 illach\, Österreich;X-APPLE-RADIUS=72;X-TITLE=Kärnten\, Villach\, Bären
 bikes:46.617202;13.85972
END:VEVENT
END:VCALENDAR