BEGIN:VCALENDAR
VERSION:2.0
PRODID:Events Booking
BEGIN:VEVENT
UID:69e73abf5731f
SUMMARY:Schrauber Workshop - Einstellungen [3/3]
DESCRIPTION:Einfache Einstellung am Mountainbike sind so einfach wie sich e
 inen Tee zuzubereiten\, sind rasch erledigt und bringen einfach mehr Fahrs
 paß und Sicherheit im Gelände. Lerne mit uns neue oder vertiefe wichtige
  Grundlagen damit du dein Bike optimal für dich einstellen kannst.
LOCATION:Seeblickstraße 41\, 9580 Villach\, Österreich
DTSTART:20230610T070000Z
DTEND:20230610T100000Z
DTSTAMP:20260421T085215Z
ORGANIZER;CN=RIDE.company:MAILTO:info@ride.company
GEO:46.587274;13.913738
X-APPLE-STRUCTURED-LOCATION;VALUE=URI;X-ADDRESS=Seeblickstraße 41\, 9580 V
 illach\, Österreich;X-APPLE-RADIUS=72;X-TITLE=Kärnten\, Drobollach\, Lak
 eside Bike:46.587274;13.913738
END:VEVENT
END:VCALENDAR