BEGIN:VCALENDAR
VERSION:2.0
PRODID:Events Booking
BEGIN:VEVENT
UID:69e73af04491f
SUMMARY:Schrauber Workshop - Pannenhilfe [3/3]
DESCRIPTION:Du hast einen Platten\, schleifende Bremsbeläge oder einen Ket
 tenriss und kannst nicht mehr weiterfahren? Vor technischen Pannen auf den
  Trails oder Radwegen ist niemand gefeit. In diesem Workshop lernst du die
  Mängel selbst an deinem Bike zu beheben oder auch jemanden Pannenhilfe z
 u leisten.
LOCATION:Seeblickstraße 41\, 9580 Villach\, Österreich
DTSTART:20230603T070000Z
DTEND:20230603T100000Z
DTSTAMP:20260421T085304Z
ORGANIZER;CN=RIDE.company:MAILTO:info@ride.company
GEO:46.587274;13.913738
X-APPLE-STRUCTURED-LOCATION;VALUE=URI;X-ADDRESS=Seeblickstraße 41\, 9580 V
 illach\, Österreich;X-APPLE-RADIUS=72;X-TITLE=Kärnten\, Drobollach\, Lak
 eside Bike:46.587274;13.913738
END:VEVENT
END:VCALENDAR