BEGIN:VCALENDAR
VERSION:2.0
PRODID:Events Booking
BEGIN:VEVENT
UID:69e73a7d65a4f
SUMMARY:Schrauber Workshop - Tuning [2/3]
DESCRIPTION:Endlich mal richtig die Schaltung selbst einstellen? Optisch\, 
 technisch und gewichtsoptimiert dein Bike tunen? Professionelle Einstellun
 gen und Umbauarbeiten am Mountainbike sind einfach\, wenn man weiß wie es
  geht. Lerne neue oder vertiefe deine Skills damit du dein Bike optimal fe
 inabstimmst und tunest.
DTSTART:20220528T070000Z
DTEND:20220528T100000Z
DTSTAMP:20260421T085109Z
ORGANIZER;CN=RIDE.company:MAILTO:info@ride.company
END:VEVENT
END:VCALENDAR