BEGIN:VCALENDAR
VERSION:2.0
PRODID:Events Booking
BEGIN:VEVENT
UID:69e81fce356cd
SUMMARY:Fahrtechnik Kurs - Spitzkehren [4/6]
DESCRIPTION:Früher oder später trifft man auf sie. Sie lauert weder hinte
 r noch vor einer Kurve\, sondern mittendrin: Die Spitzkehre. Listig schmie
 gt sie sich meist in steilem Gelände an den Hang und unterbricht sogar de
 n Flow auf den leichtesten Trails.
LOCATION:Ossiacher Str.\, 9500 Villach\, Österreich
DTSTART:20210719T150000Z
DTEND:20210720T180000Z
DTSTAMP:20260422T010934Z
ORGANIZER;CN=RIDE.company:MAILTO:info@ride.company
GEO:46.633713;13.857358
X-APPLE-STRUCTURED-LOCATION;VALUE=URI;X-ADDRESS=Ossiacher Str.\, 9500 Villa
 ch\, Österreich;X-APPLE-RADIUS=72;X-TITLE=Kärnten\, Villach\, areaone sk
 ill Center:46.633713;13.857358
END:VEVENT
END:VCALENDAR