BEGIN:VCALENDAR
VERSION:2.0
PRODID:Events Booking
BEGIN:VEVENT
UID:69e74f0bea753
SUMMARY:Fahrtechnik Kurs - Kinder 7 bis 12 Jahre [1/6]
DESCRIPTION:Radwege\, Forststraßen oder Singletrails? Warum nicht alles ge
 meinsam beim nächsten Familienradausflug? Bei unserem Kurs lernen die Kin
 der spielerisch ihre Fähigkeiten am Rad zu verbessern\, Hindernisse zu ü
 berwinden und natürlich gehen wir auch auf Sicherheitsaspekte ein. Ein Ü
 berraschungseis bei der großen Pause darf nicht fehlen\, ebenso wie unser
  übergreifendes Motto Spiel\, Spaß und Spannung.
LOCATION:Ossiacher Str.\, 9500 Villach\, Österreich
DTSTART:20190412T120000Z
DTEND:20190412T170000Z
DTSTAMP:20260421T101851Z
ORGANIZER;CN=RIDE.company:MAILTO:info@ride.company
GEO:46.633713;13.857358
X-APPLE-STRUCTURED-LOCATION;VALUE=URI;X-ADDRESS=Ossiacher Str.\, 9500 Villa
 ch\, Österreich;X-APPLE-RADIUS=72;X-TITLE=Kärnten\, Villach\, areaone sk
 ill Center:46.633713;13.857358
END:VEVENT
END:VCALENDAR