BEGIN:VCALENDAR
VERSION:2.0
PRODID:Events Booking
BEGIN:VEVENT
UID:69e9e0dcb9559
SUMMARY:Fahrtechnik Kurs - Trial Techniken für Mountainbiker [3/6]
DESCRIPTION:Dieser Kurs blickt weit über den Tellerrand unserer üblichen 
 Mountainbikewelt. Die Trialtechniken\, die wir hier lernen\, werden dir zw
 ar nicht unmittelbar auf dem Trail helfen\, jedoch wirst du ein noch viel 
 innigeres Verhältnis zu deinem Bike entwickeln. Im Zentrum steht natürli
 ch wieder die Balance\, kombiniert mit Rhythmus\, Kraft und Geschick.
LOCATION:Ossiacher Str.\, 9500 Villach\, Österreich
DTSTART:20190628T130000Z
DTEND:20190628T180000Z
DTSTAMP:20260423T090532Z
ORGANIZER;CN=RIDE.company:MAILTO:info@ride.company
GEO:46.633713;13.857358
X-APPLE-STRUCTURED-LOCATION;VALUE=URI;X-ADDRESS=Ossiacher Str.\, 9500 Villa
 ch\, Österreich;X-APPLE-RADIUS=72;X-TITLE=Kärnten\, Villach\, areaone sk
 ill Center:46.633713;13.857358
END:VEVENT
END:VCALENDAR