BEGIN:VCALENDAR
VERSION:2.0
PRODID:Events Booking
BEGIN:VEVENT
UID:69e741c821191
SUMMARY:Fahrtechnik Kurs - Schnuppern [4/27]
DESCRIPTION:Bei diesem Kurs können Anfänger und Fortgeschrittene\, Kinder
  und Familien gemeinsam in die Welt des Mountainbikens eintauchen. Wir zei
 gen dir das Mountainbike skill center areaone am Kumitzberg und werden spi
 elerisch an deiner Fahrtechnik feilen. Beim Programm gehen wir gerne auf i
 ndividuelle Wünsche der Gruppe ein.
LOCATION:Ossiacher Str.\, 9500 Villach\, Österreich
DTSTART:20180521T070000Z
DTEND:20180521T100000Z
DTSTAMP:20260421T092216Z
ORGANIZER;CN=RIDE.company:MAILTO:info@ride.company
GEO:46.633713;13.857358
X-APPLE-STRUCTURED-LOCATION;VALUE=URI;X-ADDRESS=Ossiacher Str.\, 9500 Villa
 ch\, Österreich;X-APPLE-RADIUS=72;X-TITLE=Kärnten\, Villach\, areaone sk
 ill Center:46.633713;13.857358
END:VEVENT
END:VCALENDAR