BEGIN:VCALENDAR
VERSION:2.0
PRODID:Events Booking
BEGIN:VEVENT
UID:69e5074e658c9
SUMMARY:Fahrtechnik Kurs - Wheelie\, Bunny Hop\, Springen & Co [1/5]
DESCRIPTION:Bist du es leid\, dein Bike bis zur Perfektion zu tunen\, aber 
 immer noch Schwierigkeiten zu haben\, beeindruckende Wheelies hinzulegen? 
 Oder verbringst du mehr Zeit damit\, an der coolsten Stelle der Stadt abzu
 hängen\, während andere sich mit ihren unspektakulären Tricks rühmen? 
 Egal\, ob du deine Fähigkeiten verbessern oder einfach nur zeigen möchte
 st\, wer wirklich der Boss ist – wir haben die perfekte Lösung für dic
 h: Unser Wheelie-Kurs für Fortgeschrittene. 
LOCATION:Altfinkenstein 6\, 9582 Latschach ober dem Faaker See\, Österreic
 h
DTSTART:20250519T150000Z
DTEND:20250520T180000Z
DTSTAMP:20260419T164814Z
ORGANIZER;CN=RIDE.company:MAILTO:info@ride.company
GEO:46.538684;13.904904
X-APPLE-STRUCTURED-LOCATION;VALUE=URI;X-ADDRESS=Altfinkenstein 6\, 9582 Lat
 schach ober dem Faaker See\, Österreich;X-APPLE-RADIUS=72;X-TITLE=Kärnte
 n\, Faaker See\, Baumgartnerhof:46.538684;13.904904
END:VEVENT
END:VCALENDAR