BEGIN:VCALENDAR
VERSION:2.0
PRODID:Events Booking
BEGIN:VEVENT
UID:69e4da2c03b1e
SUMMARY:Fahrtechnik Kurs - Spitzkehren [2/5]
DESCRIPTION:Früher oder später trifft man auf sie. Sie lauert weder hinte
 r noch vor einer Kurve\, sondern mittendrin: Die Spitzkehre. Listig schmie
 gt sie sich meist in steilem Gelände an den Hang und unterbricht sogar de
 n Flow auf den leichtesten Trails.
LOCATION:Altfinkenstein 6\, 9582 Latschach ober dem Faaker See\, Österreic
 h
DTSTART:20240624T150000Z
DTEND:20240625T180000Z
DTSTAMP:20260419T133540Z
ORGANIZER;CN=RIDE.company:MAILTO:info@ride.company
GEO:46.538684;13.904904
X-APPLE-STRUCTURED-LOCATION;VALUE=URI;X-ADDRESS=Altfinkenstein 6\, 9582 Lat
 schach ober dem Faaker See\, Österreich;X-APPLE-RADIUS=72;X-TITLE=Kärnte
 n\, Faaker See\, Baumgartnerhof:46.538684;13.904904
END:VEVENT
END:VCALENDAR