BEGIN:VCALENDAR
VERSION:2.0
PRODID:Events Booking
BEGIN:VEVENT
UID:69eb56a713f52
SUMMARY:Fahrtechnik Kurs - Basic Familien [2/22]
DESCRIPTION:Gemeinsamer Fahrspaß von Kindern und Erwachsenen auf Trails is
 t keine Frage des Alters\, sondern der Fahrtechnik. Bei diesem Kurs lernen
  Mamas\, Papas und Kinder gemeinsam die Basics für mehr Sicherheit und Fa
 hrspaß. Bitte nicht enttäuscht sein\, liebe Mamas und Papas\, wenn eure 
 Kinder schneller lernen und sich mehr zutrauen.
LOCATION:Ossiachersee Süduferstraße 165/A\, 9523 Villach\, Österreich
DTSTART:20240510T130000Z
DTEND:02020510T185439Z
DTSTAMP:20260424T114023Z
ORGANIZER;CN=RIDE.company:MAILTO:info@ride.company
GEO:46.651845;13.917187
X-APPLE-STRUCTURED-LOCATION;VALUE=URI;X-ADDRESS=Ossiachersee Süduferstraß
 e 165/A\, 9523 Villach\, Österreich;X-APPLE-RADIUS=72;X-TITLE=Kärnten\, 
 Ossiacher Tauern\, Seebad St.Andrä:46.651845;13.917187
END:VEVENT
END:VCALENDAR