BEGIN:VCALENDAR
VERSION:2.0
PRODID:Events Booking
BEGIN:VEVENT
UID:69ea63d21c298
SUMMARY:Fahrtechnik Kurs Basic - Flowgartner und Lowgartner [2/14]
DESCRIPTION:Du willst mit mehr Sicherheit die Trails befahren oder so richt
 ig Fliehkräfte in den Kurven spüren oder auch optional an deiner Airtime
  bei kleinen und mittleren Sprüngen arbeiten? Wir kombinieren grundlegend
 e Fahrtechnikübungen mit viel Praxisanwendungen und einem optionalen Mitt
 agessen nach dem Kurs beim Baumgartnerhof mit schmackhafter Kulinarik.
LOCATION:Altfinkenstein 6\, 9582 Latschach ober dem Faaker See\, Österreic
 h
DTSTART:20230607T070000Z
DTEND:20230607T100000Z
DTSTAMP:20260423T182418Z
ORGANIZER;CN=RIDE.company:MAILTO:info@ride.company
GEO:46.538684;13.904904
X-APPLE-STRUCTURED-LOCATION;VALUE=URI;X-ADDRESS=Altfinkenstein 6\, 9582 Lat
 schach ober dem Faaker See\, Österreich;X-APPLE-RADIUS=72;X-TITLE=Kärnte
 n\, Faaker See\, Baumgartnerhof:46.538684;13.904904
END:VEVENT
END:VCALENDAR