BEGIN:VCALENDAR
VERSION:2.0
PRODID:Events Booking
BEGIN:VEVENT
UID:69e888f0f16e8
SUMMARY:Fahrtechnik Kurs - Basic [3/6]
DESCRIPTION:Das ist deine Eintrittskarte in die Welt des Mountainbikens\, q
 uasi das Abmontieren der Stützräder – weg vom Drauradweg und Forststra
 ßen\, hin zu höheren Zielen. Bei diesem Kurs erhältst du einen gut sort
 ierten Werkzeugkasten für alles was dich auf den Trails und Wegen so erwa
 rten wird.
LOCATION:Ossiacher Str.\, 9500 Villach\, Österreich
DTSTART:20230605T150000Z
DTEND:20230606T180000Z
DTSTAMP:20260422T083808Z
ORGANIZER;CN=RIDE.company:MAILTO:info@ride.company
GEO:46.633713;13.857358
X-APPLE-STRUCTURED-LOCATION;VALUE=URI;X-ADDRESS=Ossiacher Str.\, 9500 Villa
 ch\, Österreich;X-APPLE-RADIUS=72;X-TITLE=Kärnten\, Villach\, areaone sk
 ill Center:46.633713;13.857358
END:VEVENT
END:VCALENDAR