BEGIN:VCALENDAR
VERSION:2.0
PRODID:Events Booking
BEGIN:VEVENT
UID:69e7d54c023af
SUMMARY:Fahrtechnik Kurs - E-MTB Basic [2/6]
DESCRIPTION:Motor einschalten und Berge mit dem E-Mountainbike erklimmen? J
 a das\, klingt nach Spaß aber da ist noch viel mehr. Damit du auch das ge
 samte Potential der zusätzlichen E-Power ausschöpfen kannst und auch wie
 der sicher mit einem Grinsen vom Berg kommst\, lernst du bei diesem Kurs G
 rundlagen zur Fahrtechnik\, hilfreiche Tricks und Kniffe sowie auch Einbli
 cke in die Technik des Motors und Akkus.
LOCATION:Ossiacher Str.\, 9500 Villach\, Österreich
DTSTART:20230505T130000Z
DTEND:20230505T180000Z
DTSTAMP:20260421T195140Z
ORGANIZER;CN=RIDE.company:MAILTO:info@ride.company
GEO:46.633713;13.857358
X-APPLE-STRUCTURED-LOCATION;VALUE=URI;X-ADDRESS=Ossiacher Str.\, 9500 Villa
 ch\, Österreich;X-APPLE-RADIUS=72;X-TITLE=Kärnten\, Villach\, areaone sk
 ill Center:46.633713;13.857358
END:VEVENT
END:VCALENDAR