BEGIN:VCALENDAR
VERSION:2.0
PRODID:Events Booking
BEGIN:VEVENT
UID:69e4f5fb58f10
SUMMARY:Fahrtechnik Kurs - Pumptrack Jumpworld.ONE [11/11]
DESCRIPTION:Einen Pumptrack zu fahren macht nicht nur Spaß sondern liefert
  auch viele Techniken\, welche man im Gelände anwenden kann. Die richtige
  Zieh- und Drücktechnik zur Temposteigerung muss aber gelernt sein damit 
 man sich nicht bereits nach der ersten Runde auspowert. Wir kombinieren be
 i diesem Kurs grundlegende Fahrtechnikübungen mit viel Praxisanwendungen 
 um dein Eigenkönnen zu verbessern .
LOCATION:Südring 211\, 9020 Klagenfurt am Wörthersee\, Österreich
DTSTART:20221018T140000Z
DTEND:20221018T170000Z
DTSTAMP:20260419T153419Z
ORGANIZER;CN=RIDE.company:MAILTO:info@ride.company
GEO:46.607577;14.281416
X-APPLE-STRUCTURED-LOCATION;VALUE=URI;X-ADDRESS=Südring 211\, 9020 Klagenf
 urt am Wörthersee\, Österreich;X-APPLE-RADIUS=72;X-TITLE=Kärnten\, Klag
 enfurt\, Pumptrack.ONE:46.607577;14.281416
END:VEVENT
END:VCALENDAR