BEGIN:VCALENDAR
VERSION:2.0
PRODID:Events Booking
BEGIN:VEVENT
UID:69e71347018e0
SUMMARY:[Winter Special] Schneefreier Singletrailgenuss in Gemona inklusive
  E-Enduro Bärenbikes [1/3]
DESCRIPTION:Du erlebst weiße\, braune und grüne Singletrails\, Befahrung 
 von Dschungelabschnitten und ein weitläufiges Steinfeld in einem Flußbet
 t. Natürlich ist auch Zeit zum Kraft tanken und genießen auf einer Wiese
  und einer Alm. Bei dieser Tour mittleren Schwierigeitslevel werden wir pr
 imär Forststraßen für den Uphill biken und bei den Abfahrten viele unte
 rschiedliche flowige Singletrails erfahren.
LOCATION:713\, 33013 Gemona del Friuli UD\, Italien
DTSTART:20200229T090000Z
DTEND:20200229T160000Z
DTSTAMP:20260421T060351Z
ORGANIZER;CN=RIDE.company:MAILTO:info@ride.company
GEO:46.284892;13.178644
X-APPLE-STRUCTURED-LOCATION;VALUE=URI;X-ADDRESS=713\, 33013 Gemona del Friu
 li UD\, Italien;X-APPLE-RADIUS=72;X-TITLE=Italien\, Gemona\, Julische Alpe
 n:46.284892;13.178644
END:VEVENT
END:VCALENDAR