BEGIN:VCALENDAR
VERSION:2.0
PRODID:Events Booking
BEGIN:VEVENT
UID:69eca114e403b
SUMMARY:High End Enduro Wahnsinn mit Gondel\, Lift\, Hütten und  3100 Tief
 enmeter [1/5]
DESCRIPTION:Du willst einmal so richtig mit Singletrail Tiefenmeter verwöh
 nt werden und aufwärts nur wenige Schweißtropfen vergießen? Bei dieser 
 Tour geht es aufwärts primär mit Gondel und Lift und abwärts auf unters
 chiedlichen Singletrails. Und dies den ganzen Tag lang im RIDE\,company St
 yle abseits von Mainstream inklusive zwei Mal sehr persönlicher Hüttenei
 nkehr. Zum Abendessen wird extra für uns aufgekocht von einem Ehepaar mit
 ten im Wald.
LOCATION:Tröpolach 153\, 9631 Tröpolach\, Österreich
DTSTART:20210620T080000Z
DTEND:20210620T180000Z
DTSTAMP:20260425T111012Z
ORGANIZER;CN=RIDE.company:MAILTO:info@ride.company
GEO:46.61085;13.281482
X-APPLE-STRUCTURED-LOCATION;VALUE=URI;X-ADDRESS=Tröpolach 153\, 9631 Tröp
 olach\, Österreich;X-APPLE-RADIUS=72;X-TITLE=Kärnten\, Nassfeld\, Karnis
 che Alpen:46.61085;13.281482
END:VEVENT
END:VCALENDAR