BEGIN:VCALENDAR
VERSION:2.0
PRODID:Events Booking
BEGIN:VEVENT
UID:69e7cc4322fd2
SUMMARY:Bike & Yoga am Faaker See [21/22]
DESCRIPTION:Dich erwartet eine konditionell und technisch einfache und sehr
  abwechslungsreiche Mountainbiketour mit aussichtsreichen Auffahrten und f
 lowigen Singletrailabfahrten. Immer wieder genießen wir den Blick von obe
 n auf den grünen Faaker See. Bei der einstündigen Yoga Einheit auf der B
 ergwiese sowie beim Mittagessen am Berg kannst du deine Kräfte wieder auf
 frischen.
LOCATION:Strandcamping Anderwald\, Strand-Nord 4\, 9583\, Österreich
DTSTART:20190920T070000Z
DTEND:20190920T120000Z
DTSTAMP:20260421T191307Z
ORGANIZER;CN=RIDE.company:MAILTO:info@ride.company
GEO:46.57374;13.933449
X-APPLE-STRUCTURED-LOCATION;VALUE=URI;X-ADDRESS=Strandcamping Anderwald\, S
 trand-Nord 4\, 9583\, Österreich;X-APPLE-RADIUS=72;X-TITLE=Kärnten\, Faa
 ker See\, Karawanken:46.57374;13.933449
END:VEVENT
END:VCALENDAR