BEGIN:VCALENDAR
VERSION:2.0
PRODID:Events Booking
BEGIN:VEVENT
UID:69eb72237e9a0
SUMMARY:Blaues Wunder mit Gondel\, Hütteneinkehr\, Boot Shuttle und 1500 T
 iefenmeter [4/4]
DESCRIPTION:Wir kombinieren am Weissensee gemütliche Forststraßen Auffahr
 ten\,  Hütteneinkehr mit Kaiserschmarrn und Speckjause\, Entspannung auf
  einer einsamen Alm\, flowige Singletrails\, Gondelunterstützung im Bikep
 ark und final ein Boot Shuttle. Anderes formuliert\, dich erwartet das Bes
 t-of Trail Feuerwerk am Weissensee.
LOCATION:Mösel 6a\, 9714 Mösel\, Österreich
DTSTART:20190915T070000Z
DTEND:20190915T160000Z
DTSTAMP:20260424T133739Z
ORGANIZER;CN=RIDE.company:MAILTO:info@ride.company
GEO:46.703096;13.413731
X-APPLE-STRUCTURED-LOCATION;VALUE=URI;X-ADDRESS=Mösel 6a\, 9714 Mösel\, 
 Österreich;X-APPLE-RADIUS=72;X-TITLE=Kärnten\, Weissensee\, Gailtaler Al
 pen:46.703096;13.413731
END:VEVENT
END:VCALENDAR