BEGIN:VCALENDAR
VERSION:2.0
PRODID:Events Booking
BEGIN:VEVENT
UID:69ed5b2165cd3
SUMMARY:Singletrails mit Gondel\, zwei Gipfel und 2100 Tiefenmeter [1/4]
DESCRIPTION:1000 Hm Gondel und 1100 Hm aus eigener Kraft in gemütlichen Et
 appen aufwärts biken. Diese Tour ist gespickt mit Hüttenbesuchen\, aussi
 chtsreiche Berggipfel\, kühlende Bergluft und natürlich 2100 Tiefenmeter
  auf unterschiedlichen einfachen bis mittelschweren Singletrails. Klingt d
 as lecker?
LOCATION:Rauthstraße 70\, 9544 Rauth\, Österreich
DTSTART:20190609T070000Z
DTEND:20190609T160000Z
DTSTAMP:20260426T002401Z
ORGANIZER;CN=RIDE.company:MAILTO:info@ride.company
GEO:46.778687;13.756226
X-APPLE-STRUCTURED-LOCATION;VALUE=URI;X-ADDRESS=Rauthstraße 70\, 9544 Raut
 h\, Österreich;X-APPLE-RADIUS=72;X-TITLE=Kärnten\, Feld am See + Bad Kle
 inkirchheim\, Nockberge:46.778687;13.756226
END:VEVENT
END:VCALENDAR