BEGIN:VCALENDAR
VERSION:2.0
PRODID:Events Booking
BEGIN:VEVENT
UID:69e757057e847
SUMMARY:Hammertour in die Vergangenheit mit Museum\, Bauer und Kulinarik [0
 1/17]
DESCRIPTION:Bei dieser technisch einfachen familientauglichen 900 Hm Mounta
 inbike Genusstour erfährst du sprichwörtlich die Symbiose aus Mountainbi
 ken mit vielen kleinen Abenteuern und Genüssen. Konkret bedeutet dies fü
 r dich Forstwege rauf und flowige Singletrails runter\, Mutprobe beim Wald
 see\, persönliche Führung im Museum für vergangene Alltagsgeschichte am
  Berg\, Kärntner Kulinarik im Gasthaus\, einsame Ruine im Wald und immer 
 neue unerwartete Natur- und Tiererlebnisse.
LOCATION:Ossiachersee Süduferstraße 241\, 9523 Villach\, Österreich
DTSTART:20240606T070000Z
DTEND:20240606T140000Z
DTSTAMP:20260421T105253Z
ORGANIZER;CN=RIDE.company:MAILTO:info@ride.company
GEO:46.653406;13.932545
X-APPLE-STRUCTURED-LOCATION;VALUE=URI;X-ADDRESS=Ossiachersee Süduferstraß
 e 241\, 9523 Villach\, Österreich;X-APPLE-RADIUS=72;X-TITLE=Kärnten\, Os
 siacher Tauern\, Berghof:46.653406;13.932545
END:VEVENT
END:VCALENDAR