BEGIN:VCALENDAR
VERSION:2.0
PRODID:Events Booking
BEGIN:VEVENT
UID:69e5349493ae3
SUMMARY:Mediterranes Trail Feuerwerk und Zeit für Entspannung [4/4]  
DESCRIPTION:Du erlebst weiße\, braune und grüne Singletrails\, Befahrung 
 von Dschungelabschnitten und ein weitläufiges Steinfeld in einem Flußbet
 t. Natürlich ist auch Zeit zum Kraft tanken und genießen auf einer Wiese
  und einer Alm. Bei dieser Tagestour mittleren Schwierigeitslevel werden w
 ir primär Forststraßen für den Uphill biken und bei den Abfahrten viele
  unterschiedliche flowige Singletrails erfahren.
LOCATION:Strada di Ledis\, 33013 Gemona del Friuli UD\, Italien
DTSTART:20241006T080000Z
DTEND:20241006T170000Z
DTSTAMP:20260419T200124Z
ORGANIZER;CN=RIDE.company:MAILTO:info@ride.company
GEO:46.290295;13.140743
X-APPLE-STRUCTURED-LOCATION;VALUE=URI;X-ADDRESS=Strada di Ledis\, 33013 Gem
 ona del Friuli UD\, Italien;X-APPLE-RADIUS=72;X-TITLE=Italien\, Gemona\, J
 ulische Alpen:46.290295;13.140743
END:VEVENT
END:VCALENDAR