BEGIN:VCALENDAR
VERSION:2.0
PRODID:Events Booking
BEGIN:VEVENT
UID:69e5f35827cbd
SUMMARY:Grenzberg zwischen Kärnten und Italien und Kulinarik [4/4]
DESCRIPTION:Bei dieser Tagestour mit mittleren Schwierigkeitslevel werden w
 ir einen Grenzberg zwischen Italien und Kärnten biken. Nach dem Start in 
 Italien\, in der Nähe von Tarvis\, erreichst du nach einer gemütlichen F
 orststraßenauffahrt eine wunderschöne Alm und bist plötzlich auf Du und
  Du mit den Julischen Berggiganten und tiefen Einblicken in die Kärntner 
 Täler und Berge. Danach folgt eine flowige Abfahrt auf durchgehenden Sing
 letrails.
LOCATION:Telecabina Camporosso-Monte Lussari
DTSTART:20231008T070000Z
DTEND:20231008T170000Z
DTSTAMP:20260420T093520Z
ORGANIZER;CN=RIDE.company:MAILTO:info@ride.company
GEO:46.507219;13.535714
X-APPLE-STRUCTURED-LOCATION;VALUE=URI;X-ADDRESS=Telecabina Camporosso-Monte
  Lussari;X-APPLE-RADIUS=72;X-TITLE=Italien\, Tarvis\, Karnische Alpen:46.5
 07219;13.535714
END:VEVENT
END:VCALENDAR