BEGIN:VCALENDAR
VERSION:2.0
PRODID:Events Booking
BEGIN:VEVENT
UID:69e871c56977e
SUMMARY:E-MTB Tour im Villacher Bergland mit 600Ah E-Enduros [02/18]
DESCRIPTION:Konditions-Level „leicht“ und trotzdem eine ausgewachsene M
 ountainbike Tour mit 1100hm und 55km gefällig? Wie geht das? Du lässt di
 r von E-Mountainbikes ein kleinwenig unter die Beine greifen. Mit dieser E
 xtrapower kannst du bei dieser erlebnisreichen Tour die flowigen Trails un
 d die schönen Ausblicke noch besser genießen.
LOCATION:Villacher Alpenstraße 2\, 9500 Villach\, Österreich
DTSTART:20230608T070000Z
DTEND:20230608T140000Z
DTSTAMP:20260422T065917Z
ORGANIZER;CN=RIDE.company:MAILTO:info@ride.company
GEO:46.603228;13.81072
X-APPLE-STRUCTURED-LOCATION;VALUE=URI;X-ADDRESS=Villacher Alpenstraße 2\, 
 9500 Villach\, Österreich;X-APPLE-RADIUS=72;X-TITLE=Kärnten\, Villach\, 
 Gailtaler Alpen:46.603228;13.81072
END:VEVENT
END:VCALENDAR