BEGIN:VCALENDAR
VERSION:2.0
PRODID:Events Booking
BEGIN:VEVENT
UID:69e73ef4413f1
SUMMARY:Bikecamps für Kärnten\,  Nord-Italien und Nord-Slowenien
DESCRIPTION:Camps sind in Arbeit.Einstweilen haben wir für die geplante Pr
 ogrammpunkte\, eine Übersichtsliste und Fotos für dich zum Gustieren auf
 bereitet.Es ist für jeden etwas dabei! Kinder\, Mountainbike Anfänger bi
 s zu MTB Enduro Profis mit Abenteuerlust.
LOCATION:Sonnenalpe Nassfeld 114\, 9620\, Österreich
DTSTART:20220430T220000Z
DTEND:20221129T230000Z
DTSTAMP:20260421T091012Z
ORGANIZER;CN=RIDE.company:MAILTO:info@ride.company
GEO:46.561001;13.253342
X-APPLE-STRUCTURED-LOCATION;VALUE=URI;X-ADDRESS=Sonnenalpe Nassfeld 114\, 9
 620\, Österreich;X-APPLE-RADIUS=72;X-TITLE=Alpen in Kärnten von Westen b
 is Osten\, MTB Singletrails mit Gondel:46.561001;13.253342
END:VEVENT
END:VCALENDAR