BEGIN:VCALENDAR
VERSION:2.0
PRODID:Events Booking
BEGIN:VEVENT
UID:69e506581c380
SUMMARY:5 Tage Kinder Camp 9 bis 13 Jahre in Villach [4/4] - Herbstferien
DESCRIPTION:Bei diesem Camp lernen die Kids ohne Leistungsdruck einfache Sc
 hrauber Kenntnisse\, ihre Fahrtechnik zu verfeinern sowie Tourenanwendunge
 n in der Natur an verschiedenen Locations. Ergänzt wird dieses Camp mit g
 esunden Jausen und gesunden Mittagessen sowie Lerninhalten im Umgang mit u
 nserer Natur.
LOCATION:Ossiachersee Süduferstraße 241\, 9523 Villach\, Österreich
DTSTART:20261026T073000Z
DTEND:20261030T183000Z
DTSTAMP:20260419T164408Z
ORGANIZER;CN=RIDE.company:MAILTO:info@ride.company
GEO:46.653406;13.932545
X-APPLE-STRUCTURED-LOCATION;VALUE=URI;X-ADDRESS=Ossiachersee Süduferstraß
 e 241\, 9523 Villach\, Österreich;X-APPLE-RADIUS=72;X-TITLE=Kärnten\, Os
 siacher Tauern\, Berghof:46.653406;13.932545
END:VEVENT
END:VCALENDAR