BEGIN:VCALENDAR
VERSION:2.0
PRODID:Events Booking
BEGIN:VEVENT
UID:69e5055cb9f45
SUMMARY:5 Tage Kinder Camp 9 bis 13 Jahre in Villach [2/4] - Sommerferien
DESCRIPTION:Bei diesem Camp lernen die Kids ohne Leistungsdruck einfache Sc
 hrauber Kenntnisse\, ihre Fahrtechnik zu verfeinern sowie Tourenanwendunge
 n in der Natur an verschiedenen Locations. Ergänzt wird dieses Camp mit g
 esunden Jausen und gesunden Mittagessen sowie Lerninhalten im Umgang mit u
 nserer Natur.
LOCATION:Ossiachersee Süduferstraße 165/A\, 9523 Villach\, Österreich
DTSTART:20260720T063000Z
DTEND:20260724T143000Z
DTSTAMP:20260419T163956Z
ORGANIZER;CN=RIDE.company:MAILTO:info@ride.company
GEO:46.651845;13.917187
X-APPLE-STRUCTURED-LOCATION;VALUE=URI;X-ADDRESS=Ossiachersee Süduferstraß
 e 165/A\, 9523 Villach\, Österreich;X-APPLE-RADIUS=72;X-TITLE=Kärnten\, 
 Ossiacher Tauern\, Seebad St.Andrä:46.651845;13.917187
END:VEVENT
END:VCALENDAR