BEGIN:VCALENDAR
VERSION:2.0
PRODID:Events Booking
BEGIN:VEVENT
UID:69e9dc55b3e0a
SUMMARY:5 Tage Kinder Camp 9 bis 13 Jahre in Villach [2/3] - Sommerferien
DESCRIPTION:Bei diesem Camp lernen die Kids ohne Leistungsdruck Fahrtechnik
 \, Tourenanwendungen in der Natur an verschiedenen Locations und einfache 
 Schrauber Kenntnisse. Ergänzt wird dieses Camp mit gesunden Jausen und ge
 sunden Mittagessen sowie Lerninhalten im Umgang mit unserer Natur.
LOCATION:Ossiachersee Süduferstraße 165/A\, 9523 Villach\, Österreich
DTSTART:20240715T063000Z
DTEND:20240719T143000Z
DTSTAMP:20260423T084613Z
ORGANIZER;CN=RIDE.company:MAILTO:info@ride.company
GEO:46.651845;13.917187
X-APPLE-STRUCTURED-LOCATION;VALUE=URI;X-ADDRESS=Ossiachersee Süduferstraß
 e 165/A\, 9523 Villach\, Österreich;X-APPLE-RADIUS=72;X-TITLE=Kärnten\, 
 Ossiacher Tauern\, Seebad St.Andrä:46.651845;13.917187
END:VEVENT
END:VCALENDAR