BEGIN:VCALENDAR
VERSION:2.0
PRODID:Events Booking
BEGIN:VEVENT
UID:69e73c5a09ed7
SUMMARY:Gutschein 120 Euro
DESCRIPTION:Du möchtest jemandem unmissverständlich sagen\, dass ihm ein 
 Fahrtechnikkurs gut tun würde? Du möchtest jemanden einfach helfen Geld 
 und Zeit zu sparen bei einem Schrauber Workshop? Oder du hast jemanden ric
 htig\, richtig gern und willst eine nachhaltige Tagestour im RIDE.company 
 Style mit Langzeiterinnerung schenken? Immer hereinspaziert! Hier gibt’s
  Gutscheine\, die von Herzen kommen.
LOCATION:Moosstraße 27\, 9523 Villach\, Österreich
DTSTART:20171231T230000Z
DTEND:20301230T230000Z
DTSTAMP:20260421T085906Z
ORGANIZER;CN=RIDE.company:MAILTO:info@ride.company
GEO:46.639396;13.880894
X-APPLE-STRUCTURED-LOCATION;VALUE=URI;X-ADDRESS=Moosstraße 27\, 9523 Villa
 ch\, Österreich;X-APPLE-RADIUS=72;X-TITLE=Grenzübergreifend gültig\, Gu
 tschein:46.639396;13.880894
END:VEVENT
END:VCALENDAR